BEGIN:VCALENDAR
VERSION:2.0
PRODID:-//wp-events-plugin.com//7.2.3.1//EN
BEGIN:VEVENT
UID:698@capefearlp.org
DTSTART;TZID=America/New_York:20250413T123000
DTEND;TZID=America/New_York:20250413T143000
DTSTAMP:20250401T222640Z
URL:https://capefearlp.org/events/cflp-adopt-a-highway-clean-up-2/
SUMMARY:CFLP Adopt-A-Highway Clean Up
DESCRIPTION:Please join the CFLP for our quarterly Adopt-A-Highway cleanup!
ATTACH;FMTTYPE=image/jpeg:https://www.capefearlp.org/wp-content/uploads/20
 22/06/20220612_153612-scaled-e1656467179297.jpg
CATEGORIES:CFLP
LOCATION:Harbor Freight Tools\, 2636 Carolina Beach Rd\, Wilmington\, NC\, 
 28412\, United States
X-APPLE-STRUCTURED-LOCATION;VALUE=URI;X-ADDRESS=2636 Carolina Beach Rd\, Wi
 lmington\, NC\, 28412\, United States;X-APPLE-RADIUS=100;X-TITLE=Harbor Fr
 eight Tools:geo:0,0
END:VEVENT
BEGIN:VTIMEZONE
TZID:America/New_York
X-LIC-LOCATION:America/New_York
BEGIN:DAYLIGHT
DTSTART:20250309T030000
TZOFFSETFROM:-0500
TZOFFSETTO:-0400
TZNAME:EDT
END:DAYLIGHT
END:VTIMEZONE
END:VCALENDAR